BEGIN:VCALENDAR
VERSION:2.0
PRODID:icalendar-ruby
CALSCALE:GREGORIAN
METHOD:PUBLISH
BEGIN:VEVENT
DTSTAMP:20260422T110225Z
UID:7-945526@faithcommunitychurchil.com
DTSTART:20260920T170000Z
DTEND:20260920T183000Z
CLASS:PUBLIC
CREATED:20260421T181402
DESCRIPTION:We are a community of imperfect people on a journey to know God
 .
LAST-MODIFIED:20260421T181402
LOCATION:103 East Clay St Collinsville IL
SUMMARY:Sunday Service
URL;VALUE=URI:https://faithcommunitychurchil.com/events/sunday-service/2026
 -09-20
ATTACH;FILENAME=Congregaition-pic.jpg;FMTTYPE=image/jpeg:https://dq5pwpg1q8
 ru0.cloudfront.net/2024/10/27/22/22/00/c8e02157-9f52-4547-816b-8b26ed3edfb
 d/Congregaition-pic.jpg
END:VEVENT
END:VCALENDAR
